BEGIN:VCALENDAR
VERSION:2.0
PRODID:-//National Bingo Week - ECPv6.15.20//NONSGML v1.0//EN
CALSCALE:GREGORIAN
METHOD:PUBLISH
X-WR-CALNAME:National Bingo Week
X-ORIGINAL-URL:https://nationalbingoweek.co.uk
X-WR-CALDESC:Events for National Bingo Week
REFRESH-INTERVAL;VALUE=DURATION:PT1H
X-Robots-Tag:noindex
X-PUBLISHED-TTL:PT1H
BEGIN:VTIMEZONE
TZID:Europe/London
BEGIN:DAYLIGHT
TZOFFSETFROM:+0000
TZOFFSETTO:+0100
TZNAME:BST
DTSTART:20200329T010000
END:DAYLIGHT
BEGIN:STANDARD
TZOFFSETFROM:+0100
TZOFFSETTO:+0000
TZNAME:GMT
DTSTART:20201025T010000
END:STANDARD
BEGIN:DAYLIGHT
TZOFFSETFROM:+0000
TZOFFSETTO:+0100
TZNAME:BST
DTSTART:20210328T010000
END:DAYLIGHT
BEGIN:STANDARD
TZOFFSETFROM:+0100
TZOFFSETTO:+0000
TZNAME:GMT
DTSTART:20211031T010000
END:STANDARD
BEGIN:DAYLIGHT
TZOFFSETFROM:+0000
TZOFFSETTO:+0100
TZNAME:BST
DTSTART:20220327T010000
END:DAYLIGHT
BEGIN:STANDARD
TZOFFSETFROM:+0100
TZOFFSETTO:+0000
TZNAME:GMT
DTSTART:20221030T010000
END:STANDARD
END:VTIMEZONE
BEGIN:VEVENT
DTSTART;TZID=Europe/London:20210627T120000
DTEND;TZID=Europe/London:20210627T153000
DTSTAMP:20260421T112034
CREATED:20210512T122942Z
LAST-MODIFIED:20210614T143922Z
UID:555-1624795200-1624807800@nationalbingoweek.co.uk
SUMMARY:£100\,000 Prize Money Guarantee
DESCRIPTION:We’re celebrating National Bingo Day with a huge £100\,000 in prize money guaranteed! Shout for a full house playing the National Bingo Game in the lowest number of calls to win £50\,000 in the afternoon and evening. PLUS all National Bingo Game Players at the winning club will win £100 each!
URL:https://nationalbingoweek.co.uk/event/national-bingo-game/
LOCATION:National Bingo Game\, Nationwide\, United Kingdom
CATEGORIES:Club,National
ATTACH;FMTTYPE=image/png:https://nationalbingoweek.co.uk/wp-content/uploads/2021/05/NBG.png
END:VEVENT
BEGIN:VEVENT
DTSTART;VALUE=DATE:20210627
DTEND;VALUE=DATE:20210628
DTSTAMP:20260421T112034
CREATED:20210617T111424Z
LAST-MODIFIED:20210624T132256Z
UID:1091-1624752000-1624838399@nationalbingoweek.co.uk
SUMMARY:National Bingo Day Main Events
DESCRIPTION:We have two £50\,000 National Game jackpots\, one in the afternoon and one in the evening. If the winner is in your club everyone gets £100! It’s £2 for 5 tickets PLUS it’s free chocolate for all players!
URL:https://nationalbingoweek.co.uk/event/national-bingo-day-main-events/
LOCATION:Buzz Bingo\, Nationwide\, United Kingdom
CATEGORIES:Club,National
ATTACH;FMTTYPE=image/jpeg:https://nationalbingoweek.co.uk/wp-content/uploads/2021/06/325125fc4_PDQZMMygo-88.jpg
END:VEVENT
BEGIN:VEVENT
DTSTART;VALUE=DATE:20210627
DTEND;VALUE=DATE:20210628
DTSTAMP:20260421T112034
CREATED:20210624T143540Z
LAST-MODIFIED:20210624T145108Z
UID:1279-1624752000-1624838399@nationalbingoweek.co.uk
SUMMARY:Castle Bingo
DESCRIPTION:Castle Bingo clubs are celebrating National Bingo Day 2021 in style with great value bingo for cracking prize money! Find your nearest club by using the National Bingo Game Club Finder 
URL:https://nationalbingoweek.co.uk/event/castle-bingo/
LOCATION:Castle Bingo\, Nationwide\, United Kingdom
CATEGORIES:Club,National
ATTACH;FMTTYPE=image/png:https://nationalbingoweek.co.uk/wp-content/uploads/2021/06/Castle-Bingo.png
END:VEVENT
BEGIN:VEVENT
DTSTART;VALUE=DATE:20210627
DTEND;VALUE=DATE:20210628
DTSTAMP:20260421T112034
CREATED:20210624T142914Z
LAST-MODIFIED:20210624T143315Z
UID:1276-1624752000-1624838399@nationalbingoweek.co.uk
SUMMARY:Majestic Bingo
DESCRIPTION:Majestic Bingo clubs are celebrating National Bingo Day 2021 in style with great value bingo for cracking prize money! Find your nearest club by using the National Bingo Game Club Finder 
URL:https://nationalbingoweek.co.uk/event/majestic-bingo/
LOCATION:Majestic Bingo\, Nationwide\, United Kingdom
CATEGORIES:Club,National
ATTACH;FMTTYPE=image/png:https://nationalbingoweek.co.uk/wp-content/uploads/2021/06/majestic.png
END:VEVENT
BEGIN:VEVENT
DTSTART;VALUE=DATE:20210627
DTEND;VALUE=DATE:20210628
DTSTAMP:20260421T112034
CREATED:20210624T142713Z
LAST-MODIFIED:20210624T142713Z
UID:1273-1624752000-1624838399@nationalbingoweek.co.uk
SUMMARY:Carlton Bingo
DESCRIPTION:Carlton Bingo clubs are celebrating National Bingo Day 2021 in style with great value bingo for cracking prize money! Find your nearest club by using the National Bingo Game Club Finder 
URL:https://nationalbingoweek.co.uk/event/carlton-bingo/
LOCATION:Carlton Bingo\, Nationwide\, United Kingdom
CATEGORIES:Club,National
ATTACH;FMTTYPE=image/png:https://nationalbingoweek.co.uk/wp-content/uploads/2021/06/carlton.png
END:VEVENT
BEGIN:VEVENT
DTSTART;TZID=Europe/London:20210625T210000
DTEND;TZID=Europe/London:20210625T211500
DTSTAMP:20260421T112034
CREATED:20210617T103203Z
LAST-MODIFIED:20210624T132045Z
UID:1088-1624654800-1624655700@nationalbingoweek.co.uk
SUMMARY:Charity Bingo
DESCRIPTION:After Friday evenings Main Event we have a £500 cash prize up for grabs! It’s 50p to play and it all goes to Variety the children’s charity.
URL:https://nationalbingoweek.co.uk/event/charity-bingo/
LOCATION:Buzz Bingo\, Nationwide\, United Kingdom
CATEGORIES:Club,National
ATTACH;FMTTYPE=image/png:https://nationalbingoweek.co.uk/wp-content/uploads/2021/06/Buzz-Bingo.png
END:VEVENT
BEGIN:VEVENT
DTSTART;TZID=Europe/London:20210623T120000
DTEND;TZID=Europe/London:20210623T153000
DTSTAMP:20260421T112034
CREATED:20210524T155444Z
LAST-MODIFIED:20210615T155836Z
UID:599-1624449600-1624462200@nationalbingoweek.co.uk
SUMMARY:Half Price National Bingo Game
DESCRIPTION:We’re warming up for National Bingo Day at bingo clubs across the UK by offering the National bingo Game at half price! You can play 2 tickets for 50p or 5 tickets for £1! Call for a full house within 15 numbers or less to win your share of £50\,000!
URL:https://nationalbingoweek.co.uk/event/half-price-national-bingo-game/
LOCATION:National Bingo Game\, Nationwide\, United Kingdom
CATEGORIES:Club,National
ATTACH;FMTTYPE=image/png:https://nationalbingoweek.co.uk/wp-content/uploads/2021/05/NBG.png
END:VEVENT
BEGIN:VEVENT
DTSTART;VALUE=DATE:20210623
DTEND;VALUE=DATE:20210628
DTSTAMP:20260421T112034
CREATED:20210624T130512Z
LAST-MODIFIED:20210624T131729Z
UID:1252-1624406400-1624838399@nationalbingoweek.co.uk
SUMMARY:Mecca Bingo In Club
DESCRIPTION:We have a week of fun in store this National Bingo Day across all of our Mecca Bingo Clubs\, so don’t miss out!\nKicking off the fun on Wednesday 23rd June is our much-loved 1960s prices night\, with your Main Game bingo for just 60p! \nAnd Christmas is coming early with festive fun kicking off on Friday 25th June – Junemas has arrived at Mecca with all the trimmings – mince pies\, yuletide cocktails\, Christmas jumper competition\, festive playlists and loads of Secret Santa surprises. You may even spot Santa… \nWith the festivities leading right into the official National Bingo Day on June 27th\, spend it at the original home of bingo fun with Mecca. With two incredible guaranteed £50k jackpots up for grabs with the National Game\, as well as an additional £50k exclusively in the pot just for Mecca customers\, Christmas really could come early for our big winners! And not only that\, everyone in the winning clubs for the two National Game jackpots wins too – up to £100 each!!! \nAnd the fun doesn’t stop there – every club will be giving away a month of free bingo with a nationwide draw for one lucky winner to receive a whole year of free bingo too! \nFinally\, one of our most loyal bingo fans ever\, Yvette is starting an epic tour on National Bingo Day weekend – hitting the road to visit 60 clubs to celebrate her 60th birthday and ours – watch out for her travelling across the UK fundraising for charity! \nDownload the My Mecca App to find your nearest club – every venue will have its own surprises in store too!
URL:https://nationalbingoweek.co.uk/event/mecca-bingo-in-club/
LOCATION:Mecca Bingo\, In Club\, United Kingdom
CATEGORIES:Club,National
ATTACH;FMTTYPE=image/png:https://nationalbingoweek.co.uk/wp-content/uploads/2021/06/Mecca.png
END:VEVENT
BEGIN:VEVENT
DTSTART;TZID=Europe/London:20210621T100000
DTEND;TZID=Europe/London:20210623T213000
DTSTAMP:20260421T112034
CREATED:20210617T102357Z
LAST-MODIFIED:20210617T102612Z
UID:1084-1624269600-1624483800@nationalbingoweek.co.uk
SUMMARY:50% Off Food & Soft Drinks
DESCRIPTION:We’re celebrating National Bingo Day all week at Buzz Bingo! Enjoy 50% off food and soft drinks Monday to Wednesday. Checkout our tasty treats on our menu!
URL:https://nationalbingoweek.co.uk/event/50-off-food-soft-drinks/
LOCATION:Buzz Bingo\, Nationwide\, United Kingdom
CATEGORIES:Club,National
ATTACH;FMTTYPE=image/png:https://nationalbingoweek.co.uk/wp-content/uploads/2021/06/Buzz-Bingo-Food.png
END:VEVENT
END:VCALENDAR